BEGIN:VCALENDAR
VERSION:2.0
PRODID:-//paacs.net//NONSGML kigkonsult.se iCalcreator 2.30.10//
CALSCALE:GREGORIAN
METHOD:PUBLISH
UID:10dfd05c-f8b3-4e13-816a-c60a8d086ca4
X-WR-CALDESC:Hear the latest news about  how PAACS is impacting Africa by t
 raining and discipling African doctors to become surgeons for Christ. \n\n
 Special Interview with Dr. Valentine Mbithi\n\nDr. Mbithi is a PAACS Gradu
 ate and an Assistant Program Director of the PAACS General Surgery Program
  at AIC Litein Hospital in Kenya. Hear about what's going on in PAACS and 
 Africa from someone who is actively serving on the field.\n\nPlease regist
 er below. You will be sent the Zoom link to attend the webinar. All regist
 rants will also be sent a link to a recording of the webinar 2-3 business 
 days after the broadcast.
X-WR-RELCALID:b74596be5571484f23763e4d25909bac
X-WR-TIMEZONE:America/Chicago
BEGIN:VTIMEZONE
TZID:America/Chicago
BEGIN:STANDARD
TZNAME:CST
DTSTART:20191103T020000
TZOFFSETFROM:-0500
TZOFFSETTO:-0600
RDATE:20201101T020000
RDATE:20211107T020000
END:STANDARD
BEGIN:DAYLIGHT
TZNAME:CDT
DTSTART:20200308T020000
TZOFFSETFROM:-0600
TZOFFSETTO:-0500
RDATE:20210314T020000
END:DAYLIGHT
END:VTIMEZONE
BEGIN:VEVENT
UID:29ca3bd9-ec2c-44ef-988a-9f474ec14750
DTSTAMP:20260424T082400Z
DESCRIPTION:Hear the latest news about  how PAACS is impacting Africa by tr
 aining and discipling African doctors to become surgeons for Christ. \n\nS
 pecial Interview with Dr. Valentine Mbithi\n\nDr. Mbithi is a PAACS Gradua
 te and an Assistant Program Director of the PAACS General Surgery Program 
 at AIC Litein Hospital in Kenya. Hear about what's going on in PAACS and A
 frica from someone who is actively serving on the field.\n\nPlease registe
 r below. You will be sent the Zoom link to attend the webinar. All registr
 ants will also be sent a link to a recording of the webinar 2-3 business d
 ays after the broadcast.
DTSTART;TZID=America/Chicago:20200730T190000
DTEND;TZID=America/Chicago:20200730T193500
LOCATION:Zoom
SUMMARY:PAACS Live Webinar
END:VEVENT
END:VCALENDAR
