BEGIN:VCALENDAR
VERSION:2.0
PRODID:-//paacs.net//NONSGML kigkonsult.se iCalcreator 2.30.10//
CALSCALE:GREGORIAN
METHOD:PUBLISH
UID:8e1bfb7f-aea8-4e80-b105-2eb918f0395f
X-WR-CALDESC:The PAACS Fall 2020 Board Meeting is open to all current PAACS
  Board\, Council\, Committee\, and Investigative Task Force members. Guest
 s are allowed to attend by invitation.\n\nIf you are interested in attendi
 ng this videoconference\, please email us at info@paacs.net
X-WR-RELCALID:4f42c0b127b5be319fa73e2920175ec1
X-WR-TIMEZONE:America/Chicago
BEGIN:VTIMEZONE
TZID:America/Chicago
BEGIN:STANDARD
TZNAME:CST
DTSTART:20191103T020000
TZOFFSETFROM:-0500
TZOFFSETTO:-0600
RDATE:20201101T020000
RDATE:20211107T020000
END:STANDARD
BEGIN:DAYLIGHT
TZNAME:CDT
DTSTART:20200308T020000
TZOFFSETFROM:-0600
TZOFFSETTO:-0500
RDATE:20210314T020000
RDATE:20220313T020000
END:DAYLIGHT
END:VTIMEZONE
BEGIN:VEVENT
UID:8933cf6b-53ad-4a84-9676-0fdfa723941f
DTSTAMP:20260422T032241Z
DESCRIPTION:The PAACS Fall 2020 Board Meeting is open to all current PAACS 
 Board\, Council\, Committee\, and Investigative Task Force members. Guests
  are allowed to attend by invitation.\n\nIf you are interested in attendin
 g this videoconference\, please email us at info@paacs.net
DTSTART;TZID=America/Chicago:20201030T000000
DTEND;TZID=America/Chicago:20201030T235900
LOCATION:
SUMMARY:PAACS Board Meeting
END:VEVENT
END:VCALENDAR
