BEGIN:VCALENDAR
VERSION:2.0
PRODID:-//paacs.net//NONSGML kigkonsult.se iCalcreator 2.30.10//
CALSCALE:GREGORIAN
METHOD:PUBLISH
UID:a60a2963-7bf0-4704-8bc6-1f9d4d3d7e9f
X-WR-CALDESC:35-Minute Webinar Date and Time:\n\nUS/Canada: Thursday\, Nove
 mber 19\, 2020\n8:00 PM ET | 7:00 PM CT | 5:00 PM PT\n\nAfrica: November 2
 0\, 2020\n3:00 AM EAT | 2:00 AM CAT | 1:00 AM WAT\n\nRegistration is now o
 pen. Please click link below to register.\n\nYou are invited to our second
  PAACS Live Webinar with host Dr. Keir Thelander\, Executive Vice Presiden
 t of PAACS. Dr. Thelander will share news and updates about how PAACS is i
 mpacting Africa for Christ and what's down the road for PAACS.\n\nHe will 
 be presenting an interview with Dr. Simplice Tchoba\, who is a PAACS Gradu
 ate and Faculty at the PAACS General Surgery Program at Bongolo Hospital i
 n Gabon. Dr. Tchoba will be discussing his experiences with PAACS in surgi
 cal training and spiritual mentorship\, providing us with a 'boots on the 
 ground' perspective.
X-WR-RELCALID:c06e403d0db4ec6fd0044a971f8fc9c9
X-WR-TIMEZONE:America/New_York
BEGIN:VTIMEZONE
TZID:America/New_York
BEGIN:STANDARD
TZNAME:EST
DTSTART:20201101T020000
TZOFFSETFROM:-0400
TZOFFSETTO:-0500
RDATE:20211107T020000
END:STANDARD
BEGIN:DAYLIGHT
TZNAME:EDT
DTSTART:20200308T020000
TZOFFSETFROM:-0500
TZOFFSETTO:-0400
RDATE:20210314T020000
RDATE:20220313T020000
END:DAYLIGHT
END:VTIMEZONE
BEGIN:VEVENT
UID:9f536360-fb65-4522-a7aa-cb8aa74fe3bb
DTSTAMP:20260422T014959Z
DESCRIPTION:35-Minute Webinar Date and Time:\n\nUS/Canada: Thursday\, Novem
 ber 19\, 2020\n8:00 PM ET | 7:00 PM CT | 5:00 PM PT\n\nAfrica: November 20
 \, 2020\n3:00 AM EAT | 2:00 AM CAT | 1:00 AM WAT\n\nRegistration is now op
 en. Please click link below to register.\n\nYou are invited to our second 
 PAACS Live Webinar with host Dr. Keir Thelander\, Executive Vice President
  of PAACS. Dr. Thelander will share news and updates about how PAACS is im
 pacting Africa for Christ and what's down the road for PAACS.\n\nHe will b
 e presenting an interview with Dr. Simplice Tchoba\, who is a PAACS Gradua
 te and Faculty at the PAACS General Surgery Program at Bongolo Hospital in
  Gabon. Dr. Tchoba will be discussing his experiences with PAACS in surgic
 al training and spiritual mentorship\, providing us with a 'boots on the g
 round' perspective.
DTSTART;TZID=America/New_York:20201119T200000
DTEND;TZID=America/New_York:20201119T203500
LOCATION:Please register to receive the Zoom Link
SUMMARY:PAACS Live Webinar
END:VEVENT
END:VCALENDAR
